0.3
0
0
-0.3
459000.15
2742599.85
