0.3
0
0
-0.3
456000.15
2715599.85
