0.3
0
0
-0.3
453000.15
2712599.85
