0.3
0
0
-0.3
447000.15
2739599.85
