0.3
0
0
-0.3
444000.15
2745599.85
