0.3
0
0
-0.3
441000.15
2718599.85
