0.3
0
0
-0.3
432000.15
2706599.85
