0.3
0
0
-0.3
429000.15
2712599.85
