0.3
0
0
-0.3
426000.15
2736599.85
