0.3
0
0
-0.3
420000.15
2736599.85
