0.3
0
0
-0.3
414000.15
2715599.85
