0.3
0
0
-0.3
411000.15
2727599.85
