0.3
0
0
-0.3
408000.15
2721599.85
