0.3
0
0
-0.3
402000.15
2703599.85
