0.3
0
0
-0.3
678000.15
3674999.85
