0.3
0
0
-0.3
672000.15
3677999.85
