0.3
0
0
-0.3
669000.15
3671999.85
