0.3
0
0
-0.3
666000.15
3683999.85
