0.3
0
0
-0.3
663000.15
3683999.85
