0.3
0
0
-0.3
663000.15
3668999.85
