0.3
0
0
-0.3
660000.15
3674999.85
