0.3
0
0
-0.3
657000.15
3668999.85
