0.3
0
0
-0.3
654000.15
3662999.85
