0.3
0
0
-0.3
651000.15
3671999.85
