0.3
0
0
-0.3
642000.15
3665999.85
