0.3
0
0
-0.3
642000.15
3659999.85
