0.3
0
0
-0.3
639000.15
3650999.85
