0.3
0
0
-0.3
636000.15
3641999.85
