0.3
0
0
-0.3
633000.15
3662999.85
