0.3
0
0
-0.3
630000.15
3653999.85
