0.3
0
0
-0.3
627000.15
3644999.85
