0.3
0
0
-0.3
627000.15
3638999.85
