0.3
0
0
-0.3
624000.15
3644999.85
