0.3
0
0
-0.3
621000.15
3647999.85
