0.3
0
0
-0.3
618000.15
3638999.85
