0.3
0
0
-0.3
615000.15
3623999.85
