0.3
0
0
-0.3
615000.15
3620999.85
