0.3
0
0
-0.3
612000.15
3635999.85
