0.3
0
0
-0.3
609000.15
3617999.85
