0.3
0
0
-0.3
603000.15
3632999.85
