0.3
0
0
-0.3
600000.15
3626999.85
