0.3
0
0
-0.3
594000.15
3626999.85
