0.3
0
0
-0.3
591000.15
3599999.85
