0.3
0
0
-0.3
585000.15
3614999.85
