0.3
0
0
-0.3
570000.15
3605999.85
