0.3
0
0
-0.3
555000.15
3593999.85
