0.3
0
0
-0.3
543000.15
3572999.85
