0.3
0
0
-0.3
537000.15
3569999.85
