0.3
0
0
-0.3
534000.15
3581999.85
