0.3
0
0
-0.3
534000.15
3569999.85
